BEGIN:VCALENDAR
PRODID:-//eluceo/ical//2.0/EN
VERSION:2.0
CALSCALE:GREGORIAN
BEGIN:VEVENT
UID:f9e4969aaa57e43c2705e595ff607195
DTSTAMP:20260422T215512Z
SUMMARY:Klúbbþjónustunefnd sér um fundarefni
DESCRIPTION:
URL:https://mosfellssveit.rotary1360.is/en/agenda/show/2567
DTSTART;TZID=Iceland:20210420T181500
DTEND;TZID=Iceland:20210420T193000
LOCATION:Golfskálinn Klettur\nÆðarhöfða 36\n270 Mosfellsbær\n
CATEGORIES:Rotary
END:VEVENT
BEGIN:VTIMEZONE
TZID:Iceland
BEGIN:STANDARD
DTSTART:20210420T181500
TZNAME:GMT
TZOFFSETTO:+0000
TZOFFSETFROM:+0000
END:STANDARD
END:VTIMEZONE
END:VCALENDAR
