BEGIN:VCALENDAR
PRODID:-//eluceo/ical//2.0/EN
VERSION:2.0
CALSCALE:GREGORIAN
BEGIN:VEVENT
UID:deb2229c2b341bf665e47a7c223b28c3
DTSTAMP:20260422T215502Z
SUMMARY:Félaganefnd sér um fundarefni
DESCRIPTION:
URL:https://mosfellssveit.rotary1360.is/en/agenda/show/2568
DTSTART;TZID=Iceland:20210504T181500
DTEND;TZID=Iceland:20210504T193000
LOCATION:Golfskálinn Klettur\nÆðarhöfða 36\n270 Mosfellsbær\n
CATEGORIES:Rotary
END:VEVENT
BEGIN:VTIMEZONE
TZID:Iceland
BEGIN:STANDARD
DTSTART:20210504T181500
TZNAME:GMT
TZOFFSETTO:+0000
TZOFFSETFROM:+0000
END:STANDARD
END:VTIMEZONE
END:VCALENDAR
