BEGIN:VCALENDAR
PRODID:-//eluceo/ical//2.0/EN
VERSION:2.0
CALSCALE:GREGORIAN
BEGIN:VEVENT
UID:e342ab0df037be45e7b4f4d7a72235f5
DTSTAMP:20260422T200510Z
SUMMARY:Stjórnarskiptafundur
DESCRIPTION:
URL:https://mosfellssveit.rotary1360.is/en/agenda/show/2570
DTSTART;TZID=Iceland:20210615T170000
DTEND;TZID=Iceland:20210615T210000
LOCATION:Fundarstaður utan stór-Mosfellsbæjarsvæðisins. Farið verður
  með rútu \n
CATEGORIES:Rotary
END:VEVENT
BEGIN:VTIMEZONE
TZID:Iceland
BEGIN:STANDARD
DTSTART:20210615T170000
TZNAME:GMT
TZOFFSETTO:+0000
TZOFFSETFROM:+0000
END:STANDARD
END:VTIMEZONE
END:VCALENDAR
