BEGIN:VCALENDAR
PRODID:-//eluceo/ical//2.0/EN
VERSION:2.0
CALSCALE:GREGORIAN
BEGIN:VEVENT
UID:43912248df1e3065d760ccc1acce5e7c
DTSTAMP:20260422T195548Z
SUMMARY:Klúbbþing   
DESCRIPTION:
URL:https://mosfellssveit.rotary1360.is/en/agenda/show/3099
DTSTART;TZID=Iceland:20210914T181500
DTEND;TZID=Iceland:20210914T193000
LOCATION:Golfskálinn Klettur\nÆðarhöfða 36\n270 Mosfellsbær\n
CATEGORIES:Rotary
END:VEVENT
BEGIN:VTIMEZONE
TZID:Iceland
BEGIN:STANDARD
DTSTART:20210914T181500
TZNAME:GMT
TZOFFSETTO:+0000
TZOFFSETFROM:+0000
END:STANDARD
END:VTIMEZONE
END:VCALENDAR
